BEGIN:VCALENDAR
VERSION:2.0
PRODID:-//The Train Collectors Society - ECPv6.15.20//NONSGML v1.0//EN
CALSCALE:GREGORIAN
METHOD:PUBLISH
X-WR-CALNAME:The Train Collectors Society
X-ORIGINAL-URL:https://traincollector.co.uk
X-WR-CALDESC:Events for The Train Collectors Society
REFRESH-INTERVAL;VALUE=DURATION:PT1H
X-Robots-Tag:noindex
X-PUBLISHED-TTL:PT1H
BEGIN:VTIMEZONE
TZID:Europe/London
BEGIN:DAYLIGHT
TZOFFSETFROM:+0000
TZOFFSETTO:+0100
TZNAME:BST
DTSTART:20220327T010000
END:DAYLIGHT
BEGIN:STANDARD
TZOFFSETFROM:+0100
TZOFFSETTO:+0000
TZNAME:GMT
DTSTART:20221030T010000
END:STANDARD
BEGIN:DAYLIGHT
TZOFFSETFROM:+0000
TZOFFSETTO:+0100
TZNAME:BST
DTSTART:20230326T010000
END:DAYLIGHT
BEGIN:STANDARD
TZOFFSETFROM:+0100
TZOFFSETTO:+0000
TZNAME:GMT
DTSTART:20231029T010000
END:STANDARD
BEGIN:DAYLIGHT
TZOFFSETFROM:+0000
TZOFFSETTO:+0100
TZNAME:BST
DTSTART:20240331T010000
END:DAYLIGHT
BEGIN:STANDARD
TZOFFSETFROM:+0100
TZOFFSETTO:+0000
TZNAME:GMT
DTSTART:20241027T010000
END:STANDARD
BEGIN:DAYLIGHT
TZOFFSETFROM:+0000
TZOFFSETTO:+0100
TZNAME:BST
DTSTART:20250330T010000
END:DAYLIGHT
BEGIN:STANDARD
TZOFFSETFROM:+0100
TZOFFSETTO:+0000
TZNAME:GMT
DTSTART:20251026T010000
END:STANDARD
BEGIN:DAYLIGHT
TZOFFSETFROM:+0000
TZOFFSETTO:+0100
TZNAME:BST
DTSTART:20260329T010000
END:DAYLIGHT
BEGIN:STANDARD
TZOFFSETFROM:+0100
TZOFFSETTO:+0000
TZNAME:GMT
DTSTART:20261025T010000
END:STANDARD
BEGIN:DAYLIGHT
TZOFFSETFROM:+0000
TZOFFSETTO:+0100
TZNAME:BST
DTSTART:20270328T010000
END:DAYLIGHT
BEGIN:STANDARD
TZOFFSETFROM:+0100
TZOFFSETTO:+0000
TZNAME:GMT
DTSTART:20271031T010000
END:STANDARD
END:VTIMEZONE
BEGIN:VEVENT
DTSTART;TZID=Europe/London:20260314T100000
DTEND;TZID=Europe/London:20260314T163000
DTSTAMP:20260421T073507
CREATED:20251107T112003Z
LAST-MODIFIED:20251107T112003Z
UID:10000180-1773482400-1773505800@traincollector.co.uk
SUMMARY:TCS March Spring Show
DESCRIPTION:TCS spring show at the usual Leicester venue on Sat the 14th of March 2026 \nEarly Entry is possible for £8 \nEntrance £5 when the  doors open 10:00 close at 4:30. \nChildren free.
URL:https://traincollector.co.uk/event/tcs-march-spring-show-2/
LOCATION:Trinity Methodist Church Hall\, Narborough Road\, Leicester\, LE3 2RD\, United Kingdom
CATEGORIES:Spring Get-together,TCS,TCS Stand,Train Meet
ORGANIZER;CN="Paul Draycott":MAILTO:ps.draycott@outlook.com
GEO:52.6170339;-1.1613792
X-APPLE-STRUCTURED-LOCATION;VALUE=URI;X-ADDRESS=Trinity Methodist Church Hall Narborough Road Leicester LE3 2RD United Kingdom;X-APPLE-RADIUS=500;X-TITLE=Narborough Road:geo:-1.1613792,52.6170339
END:VEVENT
BEGIN:VEVENT
DTSTART;TZID=Europe/London:20260228T100000
DTEND;TZID=Europe/London:20260301T170000
DTSTAMP:20260421T073507
CREATED:20250225T221839Z
LAST-MODIFIED:20250225T221839Z
UID:10000176-1772272800-1772384400@traincollector.co.uk
SUMMARY:Table Railways meet Unimog
DESCRIPTION:Since many years the main table railways event in continental Europe.\nAny kind of running old Table Railways in the extraordinairy surrounding of the Unimog Museum of Gaggenau.\nMake sure to check out the webpage of the Fahrergemeinschaft Tischeisenbahn
URL:https://traincollector.co.uk/event/table-railways-meet-unimog-4/
LOCATION:Unimog Museum Gaggenau\, Germany\, An det B 462\, Gaggenau\, 76571\, Germany
CATEGORIES:Train Meet
ATTACH;FMTTYPE=image/jpeg:https://traincollector.co.uk/wp-content/uploads/2018/12/Tischbahn-trifft-Unimog.jpg
GEO:48.8179;8.2953
X-APPLE-STRUCTURED-LOCATION;VALUE=URI;X-ADDRESS=Unimog Museum Gaggenau Germany An det B 462 Gaggenau 76571 Germany;X-APPLE-RADIUS=500;X-TITLE=An det B 462:geo:8.2953,48.8179
END:VEVENT
BEGIN:VEVENT
DTSTART;TZID=Europe/London:20250607T103000
DTEND;TZID=Europe/London:20250607T160000
DTSTAMP:20260421T073507
CREATED:20241013T091714Z
LAST-MODIFIED:20250525T123650Z
UID:10000175-1749292200-1749312000@traincollector.co.uk
SUMMARY:2025 Gaydon TCS Summer Show
DESCRIPTION:  \nSummer Show on 7th of June 2025 at the Gaydon Motor Museum Warwickshire. \nAgain the Trix Society \, Bassett Lowke and TCS will hold a joint train show at the very popular Gaydon Motor Museum in Warwickshire just 10 min from junction 12 on the M40. \nThis will be a big event held in the Motor Museum including 13 exhibits from N gauge to Gauge 1.  Also 25 traders will have a wide selection of trains. There is plenty of free parking and a cafeteria.\n\n\n\nEarly entry from 09.30 is £15.\n\nEntrance is £10 from 10.30 to 4.00 pm\nUnder 15's free entrance with an adult.\n\n\nIt will also be an opportunity to visit the excellent motor museum in this modern purpose-built building for an additional fee.\nExhibit and trader bookings are now completely full.  Any enquiries to Bryan Pentland -  bryanpentland@hotmail.co.uk. - 0780 181 8764\nGaydon 2025 public flyer FINAL
URL:https://traincollector.co.uk/event/2024-gaydon-tcs-summer-show/
LOCATION:Gaydon Motor Museum Warwickshire\, Banbury Road\, Warwickshire\, CV35 0BJ\, United Kingdom
CATEGORIES:Public Summer Exhibition,TCS,TCS Stand,Train Meet
ATTACH;FMTTYPE=image/png:https://traincollector.co.uk/wp-content/uploads/2025/05/Gaydon2025.png
ORGANIZER;CN="Bryan Pentland":MAILTO:bryanpentland@hotmail.co.uk
GEO:52.2291729;-1.5409453
X-APPLE-STRUCTURED-LOCATION;VALUE=URI;X-ADDRESS=Gaydon Motor Museum Warwickshire Banbury Road Warwickshire CV35 0BJ United Kingdom;X-APPLE-RADIUS=500;X-TITLE=Banbury Road:geo:-1.5409453,52.2291729
END:VEVENT
BEGIN:VEVENT
DTSTART;TZID=Europe/London:20250524T100000
DTEND;TZID=Europe/London:20250524T163000
DTSTAMP:20260421T073507
CREATED:20250329T193406Z
LAST-MODIFIED:20250329T202956Z
UID:10000177-1748080800-1748104200@traincollector.co.uk
SUMMARY:40th Anniversary Vintage Model Railway Show
DESCRIPTION:Presented by the Sussex Vintage Model Railway Collectors \nSaturday May 24th\, 2025 \nPlumpton Village Hall\, 1 West Gate\, Plumpton Green\, East Sussex BN7 3BQ \nLively vintage layouts. Good trade support\, all day refreshments \nAmple free on-site parking\, about 500m from Plumpton Station\, disabled access (except to stage) \nAdults £5\, family (2+2)\, £8\, accompanied children (under 16) free \n£1.00 discount for TCS members with proof of membership.
URL:https://traincollector.co.uk/event/40th-anniversary-vintage-model-railway-show/
LOCATION:Plumpton Village Hall\, West Gate\, Plumpton Green\, East Sussex\, BN7 3BQ\, United Kingdom
CATEGORIES:Train Meet
ATTACH;FMTTYPE=image/png:https://traincollector.co.uk/wp-content/uploads/2025/03/svmrc2025-1.png
ORGANIZER;CN="SUSSEX VINTAGE MODEL RAILWAY COLLECTORS":MAILTO:sussexvintagemrc@hotmail.co.uk
GEO:50.933301;-0.0619638
X-APPLE-STRUCTURED-LOCATION;VALUE=URI;X-ADDRESS=Plumpton Village Hall West Gate Plumpton Green East Sussex BN7 3BQ United Kingdom;X-APPLE-RADIUS=500;X-TITLE=West Gate:geo:-0.0619638,50.933301
END:VEVENT
BEGIN:VEVENT
DTSTART;TZID=Europe/London:20250315T103000
DTEND;TZID=Europe/London:20250315T163000
DTSTAMP:20260421T073507
CREATED:20241013T091122Z
LAST-MODIFIED:20250218T211711Z
UID:10000174-1742034600-1742056200@traincollector.co.uk
SUMMARY:TCS March Spring Show
DESCRIPTION:TCS spring show at the usual Leicester venue on Sat the 15th of March 2025 \nEarly Entry is possible from 09:30 to 10:30 for £10 \nEntrance £5 when the  doors open 10:30 close at 4:30. \nChildren free.
URL:https://traincollector.co.uk/event/tcs-march-spring-show/
LOCATION:Trinity Methodist Church Hall\, Narborough Road\, Leicester\, LE3 2RD\, United Kingdom
CATEGORIES:Spring Get-together,TCS,TCS Stand,Train Meet
ORGANIZER;CN="Paul Draycott":MAILTO:ps.draycott@outlook.com
GEO:52.6170339;-1.1613792
X-APPLE-STRUCTURED-LOCATION;VALUE=URI;X-ADDRESS=Trinity Methodist Church Hall Narborough Road Leicester LE3 2RD United Kingdom;X-APPLE-RADIUS=500;X-TITLE=Narborough Road:geo:-1.1613792,52.6170339
END:VEVENT
BEGIN:VEVENT
DTSTART;VALUE=DATE:20250215
DTEND;VALUE=DATE:20250217
DTSTAMP:20260421T073507
CREATED:20240329T173409Z
LAST-MODIFIED:20240329T173519Z
UID:10000171-1739577600-1739750399@traincollector.co.uk
SUMMARY:Table Railways meet Unimog
DESCRIPTION:Since many years the main table railways event in continental Europe.\nAny kind of running old Table Railways in the extraordinairy surrounding of the Unimog Museum of Gaggenau.\nMake sure to check out the webpage of the Fahrergemeinschaft Tischeisenbahn
URL:https://traincollector.co.uk/event/table-raikways-meet-unimog/
LOCATION:Unimog Museum Gaggenau\, Germany\, An det B 462\, Gaggenau\, 76571\, Germany
CATEGORIES:Train Meet
ATTACH;FMTTYPE=image/jpeg:https://traincollector.co.uk/wp-content/uploads/2018/12/Tischbahn-trifft-Unimog.jpg
GEO:48.8179;8.2953
X-APPLE-STRUCTURED-LOCATION;VALUE=URI;X-ADDRESS=Unimog Museum Gaggenau Germany An det B 462 Gaggenau 76571 Germany;X-APPLE-RADIUS=500;X-TITLE=An det B 462:geo:8.2953,48.8179
END:VEVENT
BEGIN:VEVENT
DTSTART;TZID=Europe/London:20231028T110000
DTEND;TZID=Europe/London:20231029T170000
DTSTAMP:20260421T073507
CREATED:20231022T091847Z
LAST-MODIFIED:20231022T091847Z
UID:10000166-1698490800-1698598800@traincollector.co.uk
SUMMARY:11 int Bing Meeting
DESCRIPTION:
URL:https://traincollector.co.uk/event/11-int-bing-meeting/
LOCATION:Von Busch Hof\, Von Busch Hof 5\, Freinsheim\, 67251\, Germany
CATEGORIES:Train Meet
GEO:49.50656;8.21142
X-APPLE-STRUCTURED-LOCATION;VALUE=URI;X-ADDRESS=Von Busch Hof Von Busch Hof 5 Freinsheim 67251 Germany;X-APPLE-RADIUS=500;X-TITLE=Von Busch Hof 5:geo:8.21142,49.50656
END:VEVENT
END:VCALENDAR