BEGIN:VCALENDAR
VERSION:2.0
PRODID:-//The Train Collectors Society - ECPv6.15.20//NONSGML v1.0//EN
CALSCALE:GREGORIAN
METHOD:PUBLISH
X-WR-CALNAME:The Train Collectors Society
X-ORIGINAL-URL:https://traincollector.co.uk
X-WR-CALDESC:Events for The Train Collectors Society
REFRESH-INTERVAL;VALUE=DURATION:PT1H
X-Robots-Tag:noindex
X-PUBLISHED-TTL:PT1H
BEGIN:VTIMEZONE
TZID:Europe/London
BEGIN:DAYLIGHT
TZOFFSETFROM:+0000
TZOFFSETTO:+0100
TZNAME:BST
DTSTART:20220327T010000
END:DAYLIGHT
BEGIN:STANDARD
TZOFFSETFROM:+0100
TZOFFSETTO:+0000
TZNAME:GMT
DTSTART:20221030T010000
END:STANDARD
BEGIN:DAYLIGHT
TZOFFSETFROM:+0000
TZOFFSETTO:+0100
TZNAME:BST
DTSTART:20230326T010000
END:DAYLIGHT
BEGIN:STANDARD
TZOFFSETFROM:+0100
TZOFFSETTO:+0000
TZNAME:GMT
DTSTART:20231029T010000
END:STANDARD
BEGIN:DAYLIGHT
TZOFFSETFROM:+0000
TZOFFSETTO:+0100
TZNAME:BST
DTSTART:20240331T010000
END:DAYLIGHT
BEGIN:STANDARD
TZOFFSETFROM:+0100
TZOFFSETTO:+0000
TZNAME:GMT
DTSTART:20241027T010000
END:STANDARD
END:VTIMEZONE
BEGIN:VEVENT
DTSTART;TZID=Europe/London:20231121T150000
DTEND;TZID=Europe/London:20231121T190000
DTSTAMP:20260420T054522
CREATED:20230430T075406Z
LAST-MODIFIED:20230430T075454Z
UID:10000102-1700578800-1700593200@traincollector.co.uk
SUMMARY:Penmorfa TCS/HRCA Group
DESCRIPTION:Penmorfa TCS/HRCA Group\n\nCommunity Hall\, Penmorfa LL49 9RT\, North Wales. (On A487 in village centre.)\n£3 entrance Inc. tea and biscuits.\nBring something to run\, 0 or 00.
URL:https://traincollector.co.uk/event/penmorfa-tcs-hrca-group-7/
LOCATION:Penmorfa Community Hall\, Community Hall\, Penmorfa\, North Wales\, LL49 9RT\, United Kingdom
GEO:52.9437064;-4.160974
X-APPLE-STRUCTURED-LOCATION;VALUE=URI;X-ADDRESS=Penmorfa Community Hall Community Hall Penmorfa North Wales LL49 9RT United Kingdom;X-APPLE-RADIUS=500;X-TITLE=Community Hall:geo:-4.160974,52.9437064
END:VEVENT
BEGIN:VEVENT
DTSTART;TZID=Europe/London:20231017T150000
DTEND;TZID=Europe/London:20231017T190000
DTSTAMP:20260420T054522
CREATED:20230430T075232Z
LAST-MODIFIED:20230430T075232Z
UID:10000101-1697554800-1697569200@traincollector.co.uk
SUMMARY:Penmorfa TCS/HRCA Group
DESCRIPTION:Penmorfa TCS/HRCA Group\n\nCommunity Hall\, Penmorfa LL49 9RT\, North Wales. (On A487 in village centre.)\n£3 entrance Inc. tea and biscuits.\nBring something to run\, 0 or 00.
URL:https://traincollector.co.uk/event/penmorfa-tcs-hrca-group-6/
LOCATION:Penmorfa Community Hall\, Community Hall\, Penmorfa\, North Wales\, LL49 9RT\, United Kingdom
ORGANIZER;CN="Tim Oulton":MAILTO:tim.oulton679@btinternet.com
GEO:52.9437064;-4.160974
X-APPLE-STRUCTURED-LOCATION;VALUE=URI;X-ADDRESS=Penmorfa Community Hall Community Hall Penmorfa North Wales LL49 9RT United Kingdom;X-APPLE-RADIUS=500;X-TITLE=Community Hall:geo:-4.160974,52.9437064
END:VEVENT
BEGIN:VEVENT
DTSTART;TZID=Europe/London:20230919T150000
DTEND;TZID=Europe/London:20230919T190000
DTSTAMP:20260420T054522
CREATED:20230430T075049Z
LAST-MODIFIED:20230430T075049Z
UID:10000100-1695135600-1695150000@traincollector.co.uk
SUMMARY:Penmorfa TCS/HRCA Group
DESCRIPTION:Penmorfa TCS/HRCA Group\n\nCommunity Hall\, Penmorfa LL49 9RT\, North Wales. (On A487 in village centre.)\n£3 entrance Inc. tea and biscuits.\nBring something to run\, 0 or 00.
URL:https://traincollector.co.uk/event/penmorfa-tcs-hrca-group-5/
LOCATION:Penmorfa Community Hall\, Community Hall\, Penmorfa\, North Wales\, LL49 9RT\, United Kingdom
GEO:52.9437064;-4.160974
X-APPLE-STRUCTURED-LOCATION;VALUE=URI;X-ADDRESS=Penmorfa Community Hall Community Hall Penmorfa North Wales LL49 9RT United Kingdom;X-APPLE-RADIUS=500;X-TITLE=Community Hall:geo:-4.160974,52.9437064
END:VEVENT
BEGIN:VEVENT
DTSTART;TZID=Europe/London:20230815T150000
DTEND;TZID=Europe/London:20230815T190000
DTSTAMP:20260420T054522
CREATED:20230430T074236Z
LAST-MODIFIED:20230430T074322Z
UID:10000099-1692111600-1692126000@traincollector.co.uk
SUMMARY:Penmorfa TCS/HRCA Group
DESCRIPTION:Penmorfa TCS/HRCA Group\n\nCommunity Hall\, Penmorfa LL49 9RT\, North Wales. (On A487 in village centre.)\n£3 entrance Inc. tea and biscuits.\nBring something to run\, 0 or 00.
URL:https://traincollector.co.uk/event/penmorfa-tcs-hrca-group-4/
LOCATION:Penmorfa Community Hall\, Community Hall\, Penmorfa\, North Wales\, LL49 9RT\, United Kingdom
ORGANIZER;CN="Tim Oulton":MAILTO:tim.oulton679@btinternet.com
GEO:52.9437064;-4.160974
X-APPLE-STRUCTURED-LOCATION;VALUE=URI;X-ADDRESS=Penmorfa Community Hall Community Hall Penmorfa North Wales LL49 9RT United Kingdom;X-APPLE-RADIUS=500;X-TITLE=Community Hall:geo:-4.160974,52.9437064
END:VEVENT
BEGIN:VEVENT
DTSTART;TZID=Europe/London:20230718T150000
DTEND;TZID=Europe/London:20230718T190000
DTSTAMP:20260420T054522
CREATED:20230430T074016Z
LAST-MODIFIED:20230430T074016Z
UID:10000098-1689692400-1689706800@traincollector.co.uk
SUMMARY:Penmorfa TCS/HRCA Group
DESCRIPTION:Penmorfa TCS/HRCA Group\n\nCommunity Hall\, Penmorfa LL49 9RT\, North Wales. (On A487 in village centre.)\n£3 entrance Inc. tea and biscuits.\nBring something to run\, 0 or 00.
URL:https://traincollector.co.uk/event/penmorfa-tcs-hrca-group-3/
LOCATION:Penmorfa Community Hall\, Community Hall\, Penmorfa\, North Wales\, LL49 9RT\, United Kingdom
GEO:52.9437064;-4.160974
X-APPLE-STRUCTURED-LOCATION;VALUE=URI;X-ADDRESS=Penmorfa Community Hall Community Hall Penmorfa North Wales LL49 9RT United Kingdom;X-APPLE-RADIUS=500;X-TITLE=Community Hall:geo:-4.160974,52.9437064
END:VEVENT
BEGIN:VEVENT
DTSTART;TZID=Europe/London:20230620T150000
DTEND;TZID=Europe/London:20230620T190000
DTSTAMP:20260420T054522
CREATED:20230430T071310Z
LAST-MODIFIED:20230430T072851Z
UID:10000096-1687273200-1687287600@traincollector.co.uk
SUMMARY:Penmorfa TCS/HRCA Group
DESCRIPTION:Penmorfa TCS/HRCA Group\n\nCommunity Hall\, Penmorfa LL49 9RT\, North Wales. (On A487 in village centre.)\n£3 entrance Inc. tea and biscuits.\nBring something to run\, 0 or 00.
URL:https://traincollector.co.uk/event/penmorfa-tcs-hrca-group/
LOCATION:Penmorfa Community Hall\, Community Hall\, Penmorfa\, North Wales\, LL49 9RT\, United Kingdom
GEO:52.9437064;-4.160974
X-APPLE-STRUCTURED-LOCATION;VALUE=URI;X-ADDRESS=Penmorfa Community Hall Community Hall Penmorfa North Wales LL49 9RT United Kingdom;X-APPLE-RADIUS=500;X-TITLE=Community Hall:geo:-4.160974,52.9437064
END:VEVENT
BEGIN:VEVENT
DTSTART;TZID=Europe/London:20230516T150000
DTEND;TZID=Europe/London:20230516T190000
DTSTAMP:20260420T054522
CREATED:20230430T073316Z
LAST-MODIFIED:20230430T073747Z
UID:10000097-1684249200-1684263600@traincollector.co.uk
SUMMARY:Penmorfa TCS/HRCA Group
DESCRIPTION:Penmorfa TCS/HRCA Group\n\nCommunity Hall\, Penmorfa LL49 9RT\, North Wales. (On A487 in village centre.)\n£3 entrance Inc. tea and biscuits.\nBring something to run\, 0 or 00.
URL:https://traincollector.co.uk/event/penmorfa-tcs-hrca-group-2/
LOCATION:Penmorfa Community Hall\, Community Hall\, Penmorfa\, North Wales\, LL49 9RT\, United Kingdom
ORGANIZER;CN="Tim Oulton":MAILTO:tim.oulton679@btinternet.com
GEO:52.9437064;-4.160974
X-APPLE-STRUCTURED-LOCATION;VALUE=URI;X-ADDRESS=Penmorfa Community Hall Community Hall Penmorfa North Wales LL49 9RT United Kingdom;X-APPLE-RADIUS=500;X-TITLE=Community Hall:geo:-4.160974,52.9437064
END:VEVENT
END:VCALENDAR